-0.04225244065073
0.07946528335730
0.07946528335730
0.04225244065073
700522.84980872693000
240261.87680989524000
