-0.04225244065073
0.07946528335730
0.07946528335730
0.04225244065073
700245.84980872693000
240790.87680989524000
