-0.04225244065073
0.07946528335730
0.07946528335730
0.04225244065073
699352.84980872693000
242470.87680989524000
