-0.04225244065073
0.07946528335730
0.07946528335730
0.04225244065073
697817.84980872693000
245295.87680989524000
