-0.04225244065073
0.07946528335730
0.07946528335730
0.04225244065073
696031.84980872693000
248655.87680989524000
