-0.04225244065073
0.07946528335730
0.07946528335730
0.04225244065073
695409.84980872693000
249793.87680989524000
