-0.04225244065073
0.07946528335730
0.07946528335730
0.04225244065073
692353.84980872693000
255488.87680989524000
