0.04225244065073
-0.07946528335730
-0.07946528335730
-0.04225244065073
701222.68813575595000
240399.57716578463000
