0.04225244065073
-0.07946528335730
-0.07946528335730
-0.04225244065073
700587.68813575595000
241590.57716578463000
