0.04225244065073
-0.07946528335730
-0.07946528335730
-0.04225244065073
700260.68813575595000
242195.57716578463000
