0.04225244065073
-0.07946528335730
-0.07946528335730
-0.04225244065073
699615.68813575595000
243379.57716578463000
