0.04225244065073
-0.07946528335730
-0.07946528335730
-0.04225244065073
695208.68813575595000
251573.57716578463000
