0.04225244065073
-0.07946528335730
-0.07946528335730
-0.04225244065073
694198.68813575595000
253430.57716578463000
