0.04225244065073
-0.07946528335730
-0.07946528335730
-0.04225244065073
693491.68813575595000
254737.57716578463000
