0.04225244065073
-0.07946528335730
-0.07946528335730
-0.04225244065073
692848.68813575595000
255936.57716578463000
