0.04225244065073
-0.07946528335730
-0.07946528335730
-0.04225244065073
691884.68813575595000
257716.57716578463000
