0.04225244065073
-0.07946528335730
-0.07946528335730
-0.04225244065073
690928.68813575595000
259478.57716578463000
