0.04225244065073
-0.07946528335730
-0.07946528335730
-0.04225244065073
690253.68813575595000
260696.57716578463000
