-0.04225244065073
0.07946528335730
0.07946528335730
0.04225244065073
700241.77391976118000
236213.96885853561000
