-0.04225244065073
0.07946528335730
0.07946528335730
0.04225244065073
699070.77391976118000
238382.96885853561000
