-0.04225244065073
0.07946528335730
0.07946528335730
0.04225244065073
697794.77391976118000
240789.96885853561000
