-0.04225244065073
0.07946528335730
0.07946528335730
0.04225244065073
697492.77391976118000
241352.96885853561000
