-0.04225244065073
0.07946528335730
0.07946528335730
0.04225244065073
696349.77391976118000
243464.96885853561000
