-0.04225244065073
0.07946528335730
0.07946528335730
0.04225244065073
694904.77391976118000
246131.96885853561000
