-0.04225244065073
0.07946528335730
0.07946528335730
0.04225244065073
693793.77391976118000
248210.96885853561000
