-0.04225244065073
0.07946528335730
0.07946528335730
0.04225244065073
692603.77391976118000
250433.96885853561000
