-0.04225244065073
0.07946528335730
0.07946528335730
0.04225244065073
691737.77391976118000
252012.96885853561000
