-0.04225244065073
0.07946528335730
0.07946528335730
0.04225244065073
700287.05115307146000
233720.49647312760000
