-0.04225244065073
0.07946528335730
0.07946528335730
0.04225244065073
696093.05115307146000
241571.49647312760000
