-0.04225244065073
0.07946528335730
0.07946528335730
0.04225244065073
692005.05115307146000
249158.49647312760000
