-0.04225244065073
0.07946528335730
0.07946528335730
0.04225244065073
691159.05115307146000
250719.49647312760000
