-0.04225244065073
0.07946528335730
0.07946528335730
0.04225244065073
688777.05115307146000
255171.49647312760000
