0.04225244065073
-0.07946528335730
-0.07946528335730
-0.04225244065073
700557.94884692854000
234372.50352687240000
