0.04225244065073
-0.07946528335730
-0.07946528335730
-0.04225244065073
699096.94884692854000
237049.50352687240000
