0.04225244065073
-0.07946528335730
-0.07946528335730
-0.04225244065073
696436.94884692854000
242040.50352687240000
