0.04225244065073
-0.07946528335730
-0.07946528335730
-0.04225244065073
696071.94884692854000
242726.50352687240000
