0.04225244065073
-0.07946528335730
-0.07946528335730
-0.04225244065073
695718.94884692854000
243383.50352687240000
