0.04225244065073
-0.07946528335730
-0.07946528335730
-0.04225244065073
688442.94884692854000
256872.50352687240000
