-0.04225244065073
0.07946528335730
0.07946528335730
0.04225244065073
696946.95874196803000
235291.98726826362000
