-0.04225244065073
0.07946528335730
0.07946528335730
0.04225244065073
696438.95874196803000
236260.98726826362000
