-0.04225244065073
0.07946528335730
0.07946528335730
0.04225244065073
695406.95874196803000
238177.98726826362000
