-0.04225244065073
0.07946528335730
0.07946528335730
0.04225244065073
693768.95874196803000
241197.98726826362000
