-0.04225244065073
0.07946528335730
0.07946528335730
0.04225244065073
693510.95874196803000
241670.98726826362000
