-0.04225244065073
0.07946528335730
0.07946528335730
0.04225244065073
692701.95874196803000
243165.98726826362000
