-0.04225244065073
0.07946528335730
0.07946528335730
0.04225244065073
691066.95874196803000
246154.98726826362000
