-0.04225244065073
0.07946528335730
0.07946528335730
0.04225244065073
689859.95874196803000
248369.98726826362000
