-0.04225244065073
0.07946528335730
0.07946528335730
0.04225244065073
688913.95874196803000
250099.98726826362000
