-0.04225244065073
0.07946528335730
0.07946528335730
0.04225244065073
688305.95874196803000
251220.98726826362000
