0.04225244065073
-0.07946528335730
-0.07946528335730
-0.04225244065073
698507.59572465252000
233626.06796092057000
