0.04225244065073
-0.07946528335730
-0.07946528335730
-0.04225244065073
698150.59572465252000
234288.06796092057000
